BEGIN:VCALENDAR
VERSION:2.0
PRODID:-//Jazzclub Rheingau eV.//NONSGML kigkonsult.se iCalcreator 2.41.92//
CALSCALE:GREGORIAN
METHOD:PUBLISH
UID:34393237-6332-4336-b732-643436386538
X-WR-CALNAME:iCagenda
X-WR-CALDESC:Event Management Extension for Joomla!
X-WR-RELCALID:3E26604A-50F4-4449-8B3E-E4F4932D05B5
X-WR-TIMEZONE:Europe/Berlin
BEGIN:VTIMEZONE
TZID:Europe/Berlin
TZUNTIL:20280326T010000Z
BEGIN:STANDARD
TZNAME:CET
DTSTART:20251026T030000
TZOFFSETFROM:+0200
TZOFFSETTO:+0100
RDATE:20261025T030000
RDATE:20271031T030000
END:STANDARD
BEGIN:DAYLIGHT
TZNAME:CEST
DTSTART:20260329T020000
TZOFFSETFROM:+0100
TZOFFSETTO:+0200
RDATE:20270328T020000
END:DAYLIGHT
END:VTIMEZONE
BEGIN:VEVENT
UID:62366537-3637-4432-a139-393531333337
DTSTAMP:20260423T134722Z
CATEGORIES:Jazzwoche
CLASS:PUBLIC
DESCRIPTION;ALTREP="CID:<FFFF__=0ABBE548DFE235B58f9e8a93d@coffeebean.com>":
 The swing shakes bringen den pulsierenden\, körperlichen Sound des frühen 
 Jazz mit frischem Drive auf die Bühne. Die Band verbindet klassischen Swin
 g\, Street-Jazz und frühe Rhythm &amp\; Blues - Elemente mit einem moderne
 n musikalischen Ansatz. New Orleans inspirierte Grooves treffen auf zeitge
 mäße Arrangements\, spontane Improvisationen und eine mitreißende Live-Ene
 rgie.the swing shakes - the groove that moves you!\nClaudia Seng (voc)\, F
 lorian Wehse (tr)\, Markus Fleischer (git)\,\nNiklas Schumacher (b)\, Pit 
 Marquardt (dr)\n \nBeginn: 19 Uhr Einlass: 18 Uhr Eintritt: 16 €\n 
DTSTART:20260701T170000Z
DTEND:20260701T170000Z
GEO:+50.894569;+6.992874
LOCATION:Weingut Hamm\, Hauptstr. 60\, 65375 Oestrich-Winkel
ORGANIZER:
SEQUENCE:1
SUMMARY:the swing shakes
TRANSP:OPAQUE
URL:https://jazzclub-rheingau.de/index.php/eventlist/the-swing-shakes/2026-
 07-01-19-00?layout=vcal
END:VEVENT
END:VCALENDAR
