BEGIN:VCALENDAR
VERSION:2.0
PRODID:-//Jazzclub Rheingau eV.//NONSGML kigkonsult.se iCalcreator 2.41.92//
CALSCALE:GREGORIAN
METHOD:PUBLISH
UID:37373062-3165-4636-b437-636461663966
X-WR-CALNAME:iCagenda
X-WR-CALDESC:Event Management Extension for Joomla!
X-WR-RELCALID:3E26604A-50F4-4449-8B3E-E4F4932D05B5
X-WR-TIMEZONE:Europe/Berlin
BEGIN:VTIMEZONE
TZID:Europe/Berlin
TZUNTIL:20280326T010000Z
BEGIN:STANDARD
TZNAME:CET
DTSTART:20251026T030000
TZOFFSETFROM:+0200
TZOFFSETTO:+0100
RDATE:20261025T030000
RDATE:20271031T030000
END:STANDARD
BEGIN:DAYLIGHT
TZNAME:CEST
DTSTART:20260329T020000
TZOFFSETFROM:+0100
TZOFFSETTO:+0200
RDATE:20270328T020000
END:DAYLIGHT
END:VTIMEZONE
BEGIN:VEVENT
UID:37336133-3264-4537-b337-396333323565
DTSTAMP:20260423T134723Z
CATEGORIES:Jazzwoche
CLASS:PUBLIC
DESCRIPTION;ALTREP="CID:<FFFF__=0ABBE548DFE235B58f9e8a93d@coffeebean.com>":
 Die Band hat sich den swingenden Combos der 30er Jahre verschrieben und pr
 äsentiert am liebsten die harmonisch anspruchsvollen Balladen gepaart mit 
 den Ohrwürmern\, die wir von den Heroen des New Yorker Harlem wie Fats Wal
 ler\, Duke Ellington und Benny Goodman kennen. Die Rhythmusgruppe besteht 
 aus phantastischen Solisten\, die zu den Besten über Deutschland weit hina
 us gehören. Dazu steuert die Frontline spannende\, aus dem Stehgreif entwi
 ckelte Arrangements bei. Spannende Versionen berühmter\, aber auch selten 
 zu hörender Titel\, werden für die Swingfreunde auf die Bühne gebracht.\nH
 erbert Christ (tp\, voc)\, Matthias Seuffert (cl\, sax)\,\nCarsten Schneid
 er (g)\, Florian Werther (b)\, Thilo Wagner (p)\nAls Stargast aus Frankrei
 ch: Benoit de Flamesnil (trb)\nBeginn: 19 Uhr   Einlass: 18 Uhr   Eintritt
 : 16 €\n 
DTSTART:20260629T170000Z
DTEND:20260629T170000Z
GEO:+50.002743;+8.002566
LOCATION:Weingut Prana\, Kirchstr.61\, 65375 Oestrich-Winkel
ORGANIZER:
SEQUENCE:1
SUMMARY:SWINGERS & STRINGERS
TRANSP:OPAQUE
URL:https://jazzclub-rheingau.de/index.php/eventlist/swingers-stringers-2/2
 026-06-29-19-00?layout=vcal
END:VEVENT
END:VCALENDAR
